BEGIN:VCALENDAR
VERSION:2.0
PRODID:-//Gratis-in-Berlin//NONSGML kigkonsult.se iCalcreator 2.14//
METHOD:PUBLISH
X-WR-CALNAME:Gratis-in-Berlin Tip Kalender
X-WR-CALDESC:Erhalte Gratis-in-Berlin Tips in deinem Kalender
BEGIN:VEVENT
UID:20260419T154234UTC-3063a4KU52@Gratis-in-Berlin
DTSTAMP:20260419T154234Z
DESCRIPTION:Bühnenprogramm mit Auftritten von u.a. Sebastian Hämer\, Kira\, Kirk S
 mith\, Andrè Bahia\, und Joseph Odogu.Dazu Speisen\, Drinks\, Kinderangebote
  und vieles mehr!Update Redaktion\, hier das Programm:Freitag 24.05.202414
 -19 Uhr Musik &amp\; Moderation mit JOE19-21 Uhr Benny Fiedler &amp\; Frie
 ndsPOP\, Jazz &amp\; Soul21-22 Uhr Soul PartySamstag 25.05.202412-14 Uhr R
 eggea warm-up14-16 Uhr Kinderdisco17-20 Uhr Kirk Smith &amp\; FriendsDisco
 \, Funk &amp\; Soul20-22 Uhr 90er Party mit Josiah BruceSonntag 26.05.2024
 12-14 Uhr Musik &amp\; Moderation JOE14-16 Uhr Dirk JüttnerRock n Roll &amp\; S
 oul16-20 Uhr Soulparty mit JOE\n\nViel Spass wünscht Gratis-in-Berlin\n\nLink z
 um Tip: https://www.gratis-in-berlin.de/kalender/item/2068126-sommerfest-a
 m-treptower-park\nZu den Gratis-in-Berlin Angeboten: http://www.gratis-in-
 berlin.de\n
DTSTART;VALUE=DATE:20240809
DTEND;VALUE=DATE:20240812
SUMMARY:Sommerfest am Treptower Park
END:VEVENT
END:VCALENDAR
