BEGIN:VCALENDAR
VERSION:2.0
PRODID:-//Gratis-in-Berlin//NONSGML kigkonsult.se iCalcreator 2.14//
METHOD:PUBLISH
X-WR-CALNAME:Gratis-in-Berlin Tip Kalender
X-WR-CALDESC:Erhalte Gratis-in-Berlin Tips in deinem Kalender
BEGIN:VEVENT
UID:20260422T124524UTC-3235hz6cig@Gratis-in-Berlin
DTSTAMP:20260422T124524Z
DESCRIPTION:Auch bei der Staatsoper für alle 2025 gibt es ein Live-Konzert und a
 m Vorabend eine Opernübertragung auf dem Bebelplatz\,&nbsp\;SONNTAG: 11.30&nbsp
 \;Open-Air-Konzert Opernkinder&shy\;orchester mit Werkehn von&nbsp\;Peter 
 I. Tschaikowsky13.00&nbsp\; Open-Air-Konzert der Staatskapelle BerlinJohan
 nes BrahmsSinfonie Nr. 3 F-Dur op. 90Sinfonie Nr. 1 c-Moll op. 68VORABEND 
 SAMSTAG:19.00&nbsp\;Live-Übertragung Roméo et Juliette von Charles GounodDatu
 m / Termin der 21. / 22. Juni 2025Und per Klick auf folgenden Link in Fett
 schrift findet Ihr weitere kostenlose und&nbsp\;spannende Veranstaltungen 
 in Berlin genau heute\n\nViel Spass wünscht Gratis-in-Berlin\n\nLink zum Tip: 
 \nZu den Gratis-in-Berlin Angeboten: http://www.gratis-in-berlin.de\n
DTSTART;VALUE=DATE:20250622
DTEND;VALUE=DATE:20250623
SUMMARY:Staatsoper für alle 2025: Live-Konzerte auf Bebelplatz
END:VEVENT
END:VCALENDAR
