BEGIN:VCALENDAR
VERSION:2.0
PRODID:-//Gratis-in-Berlin//NONSGML kigkonsult.se iCalcreator 2.14//
METHOD:PUBLISH
X-WR-CALNAME:Gratis-in-Berlin Tip Kalender
X-WR-CALDESC:Erhalte Gratis-in-Berlin Tips in deinem Kalender
BEGIN:VEVENT
UID:20260419T122233UTC-8164TVgOIj@Gratis-in-Berlin
DTSTAMP:20260419T122233Z
DESCRIPTION:Festival ?Salon K? bringt Kunst und Kultur auf Straßen\, Plätze un
 d Parks im LettekiezVom 12. bis 15. September findet die 14. Ausgabe des b
 eliebten Kunst- und Kulturfestivals ?Salon K? wieder im Reinickendorfer Le
 ttekiez statt und lockt mit einem abwechslungsreichen Programm auf Straßen\
 , Plätze und Parks. Gefördert wird das Festival mit Mitteln des Quartiersmanage
 ments aus dem Programm Sozialer Zusammenhalt. Der Eintritt ist frei!Zur Er
 öffnung am Donnerstag\, den 12. September spielt die Band ?Searchin? the Root
 s? Skiffle\, Folk und Swingjazz auf dem Letteplatz. Vorher gibt es einen T
 anzkurs für alle\, die zur Livemusik das Tanzbein schwingen möchten. Kleine und gr
 oße Kreative können bei zwei Kunstworkshops Tiere aus buntem Papier oder Nagel
 bilder gestalten.Am Freitag (13.9.) wird im Projektraum resiART eine Ausst
 ellung von Rezza Art mit Musik und Live-Zeichnung eröffnet. Zudem gibt es ein
 e Improtheater-Aufführung im Kulturraum ?M5? (Markstr. 5).Höhepunkt des Festivals 
 ist wieder der ?Schäfersee-Tag? (14.9.) mit sieben Programmpunkten. Zum Auft
 akt führt der Walk-Act ?Double Wobble? mit Jonglage\, Zauberei und Seifenblasen
  vom Franz-Neumann-Platz zum Schäfersee. Dort können große und kleine Künstler*innen 
 Traumfänger kreieren und mit Objekttheater Dinge zum Leben erwecken.Am Ufer 
 des Sees spielt das ?Wassim Mukdad Trio? Musik berühmter arabischer Künstlerinnen\, 
 es werden ?Der Zauberer von Oz? als Straßentheater und ein Stelzen-Walk-Act
  mit großem gelben Fisch aufgeführt. Die vierköpfige ?Band A Panda do Sol? rundet d
 en Tag mit brasilianischen und transatlantischen Rhythmen vor der idyllisc
 hen See-Kulisse ab.Am Sonntag (15.9.) lädt das Duo Nominka mit melancholisch
 en Balladen\, beschwingten Chansons und ungestümen Balkanklängen ins Café ostPost (
 Mickestr. 1) zu Kaffee und Kuchen ein. Zum Festivalabschluss gibt es ein S
 traßentheater für Kinder und Familien auf dem Letteplatz\, bei dem uns Vito und 
 sein Fahrrad mit Clownerie\, Pantomime und Zauberei auf eine Reise mitnehm
 en.Programm und weitere Informationen: www.salon-k.de\n\nViel Spass wünscht Gra
 tis-in-Berlin\n\nLink zum Tip: \nZu den Gratis-in-Berlin Angeboten: http:/
 /www.gratis-in-berlin.de\n
DTSTART;VALUE=DATE:20240912
DTEND;VALUE=DATE:20240916
SUMMARY:Salon K ? Das Kunst- und Kulturfestival im Lettekiez
END:VEVENT
END:VCALENDAR
