BEGIN:VCALENDAR
VERSION:2.0
PRODID:-//Gratis-in-Berlin//NONSGML kigkonsult.se iCalcreator 2.14//
METHOD:PUBLISH
X-WR-CALNAME:Gratis-in-Berlin Tip Kalender
X-WR-CALDESC:Erhalte Gratis-in-Berlin Tips in deinem Kalender
BEGIN:VEVENT
UID:20260422T170149UTC-9188pBJKl9@Gratis-in-Berlin
DTSTAMP:20260422T170149Z
DESCRIPTION:Berlin Weihnachten 2025 - Veranstaltungen und Tips:&nbsp\;Per K
 lick auf unsere Tips zum&nbsp\;1. Weihnachsfeiertag in Berlin warten noch 
 mehr Weihnachtsmärkte\,&nbsp\; Musik in Kirchen\, meist Open Air Kino mit 'F
 euerzangenbowle festliche Beleuchtungen\, Konzerte in Europas wohl größtem Gl
 ockenspiel\, ...Bei unseren&nbsp\;Veranstaltungen am 2. Weihnachsfeiertag 
 in Berlin&nbsp\;finden sich Witziges wie ein Gänsebraten-Verdauungslauf durc
 h den Grunewald und Klassisches wie \, Weihnachtsmärkte\, Konzerte\, Weihnac
 htsbeleuchtungen\, Shopping Chancen\, ...Berlin ist auch 2025 wieder Stadt
  der meisten Weihnachtsmärkte - auch in der Adventszeit&nbsp\;exotische\, sk
 andinavische\, englische\, vegane\, Weihnachtsmärkte\, in Potsdam\, mit Eisl
 aufbahnen\, ein Umweltweihnachtsmarkt\, ...Per Klick auf unsere&nbsp\;Tips
  für Heiligabend in Berlin&nbsp\;(Fettschrift = klickbarer Link) finden sich ei
 n Weihnachtssingen vorm Rathaus\, Weihnachtsmäkrke\, meist ein Krippenspiel\
 , Tips und Hilfe gegen Einsamkeit\, Partys\, Konzerte unterschiedlicher Mu
 sikrichtungen\, Weihnachtsmärkte\, ... \n\nViel Spass wünscht Gratis-in-Berlin\n
 \nLink zum Tip: \nZu den Gratis-in-Berlin Angeboten: http://www.gratis-in-
 berlin.de\n
DTSTART;VALUE=DATE:20251224
DTEND;VALUE=DATE:20251227
SUMMARY:Weihnachten 2025 Berlin: Veranstaltungen\, Events\, Weihnachtsmärkte 
 für Weihnachtszeit 2025
END:VEVENT
END:VCALENDAR
