BEGIN:VCALENDAR
VERSION:2.0
PRODID:-//Gratis-in-Berlin//NONSGML kigkonsult.se iCalcreator 2.14//
METHOD:PUBLISH
X-WR-CALNAME:Gratis-in-Berlin Tip Kalender
X-WR-CALDESC:Erhalte Gratis-in-Berlin Tips in deinem Kalender
BEGIN:VEVENT
UID:20260422T165105UTC-1498vNbdPd@Gratis-in-Berlin
DTSTAMP:20260422T165105Z
DESCRIPTION:Auch beim Motzstraßenfest 2024 rund um den Nollendorfplatz gibt 
 es an beiden Tagen wieder Stände\, Bühnen-Programm und Partys in der Motz-\, Eise
 nacher-\, Fugger- und Kalckreuthstrasse.Datum des schwul-lesbischen Stadtf
 estes Schöneberg 2025: 19. und 20. Juli 2025.Auf den Bühnen wird ein buntes Progra
 mm aus Musik\, Tanz und Comedy geboten. An vielen Ständen kann man kulinaris
 che Köstlichkeiten genießen. Prominente stellen sich auf dem »Wilden Sofa« der D
 iskussion. Und ein breites Spektrum lesbischer\, schwuler\, bisexueller un
 d transidentischer Projekte\, Vereine und Organisationen informiert über ihre A
 rbeitProgramm für das lesbisch-schwule Stadtfest findet Ihr bis dann rechtzeiti
 g aktualisiert über unten bei weitere Infos verlinkte Website oder im gedruckte
 n Heft\, das dann bestimmt auch wieder dem for free erhältlichen Magazin Sie
 gessäule beiliegt.\nEine Woche später geht die Pride Week dann weiter mit dem 
 Berliner CSD&nbsp\;(Fettschrift = Link) Und über folgende Links findet Ihr weit
 ere bzw. immer besondere&nbsp\;Berlin Tips für genau heute und hier besondere k
 ostenlose Berlin Events morgen\n\nViel Spass wünscht Gratis-in-Berlin\n\nLink z
 um Tip: \nZu den Gratis-in-Berlin Angeboten: http://www.gratis-in-berlin.d
 e\n
DTSTART;VALUE=DATE:20250719
DTEND;VALUE=DATE:20250721
SUMMARY:Motzstraßenfest 2025: Schwul-lesbisches Stadtfest am Nollendorfplatz
END:VEVENT
END:VCALENDAR
