BEGIN:VCALENDAR
VERSION:2.0
PRODID:-//Gratis-in-Berlin//NONSGML kigkonsult.se iCalcreator 2.14//
METHOD:PUBLISH
X-WR-CALNAME:Gratis-in-Berlin Tip Kalender
X-WR-CALDESC:Erhalte Gratis-in-Berlin Tips in deinem Kalender
BEGIN:VEVENT
UID:20260422T200517UTC-8486IuwFbr@Gratis-in-Berlin
DTSTAMP:20260422T200517Z
DESCRIPTION:Stände mit Leckerien und Kunstwerk. Aber auch Illuminationen der 
 barocken Fassaden des Humboldt Forums.&nbsp\;Täglich incl. Neujahr von 11 bi
 s letzes Mal 22 Uhr\, Heiligabend geschlossenImmer dienstags und donnersta
 gs verwandelt eine Lasershow den Schlüterhof (um 18 Uhr) und und die Außenfassad
 e Spreeterrassen (um 20 Uhr) in eine zauberhafte Lichterwelt.\n\nViel Spas
 s wünscht Gratis-in-Berlin\n\nLink zum Tip: \nZu den Gratis-in-Berlin Angeboten
 : http://www.gratis-in-berlin.de\n
DTSTART;VALUE=DATE:20251124
DTEND;VALUE=DATE:20260102
SUMMARY:Weihnachtsmarkt am Humboldt Forum & Wintermarkt (außer 24.12.) mit L
 aser-Shows Di & Do
END:VEVENT
END:VCALENDAR
