BEGIN:VCALENDAR
VERSION:2.0
PRODID:-//Gratis-in-Berlin//NONSGML kigkonsult.se iCalcreator 2.14//
METHOD:PUBLISH
X-WR-CALNAME:Gratis-in-Berlin Tip Kalender
X-WR-CALDESC:Erhalte Gratis-in-Berlin Tips in deinem Kalender
BEGIN:VEVENT
UID:20260421T060729UTC-0729dnmU6I@Gratis-in-Berlin
DTSTAMP:20260421T060729Z
DESCRIPTION:Kunst und Wein sind sich in vielerlei Hinsicht ähnlich: Hier komm
 t zusammen\, was zusammengehört: Winzer und Weinkenner\, Künstler und Kunstliebhab
 er\, die sich in entspannter Atmosphäre begegnen\, über Rebsorten und Kunststile 
 austauschen und mit einem Glas Wein auf eine einzigartige Kultur anstoßen. 
 Gelegenheit dazu bietet sich unter dem Motto KUNST trifft WEIN beim diesjähr
 igen Frühjahrspendant zum herbstlichen Wein- und Winzerfest am idyllisch gelege
 nen Lichtenrader Dorfteich vom 3. bis 5. Mai 2024. Highlight ist das Live-
 Unterhaltungsprogramm\, bei dem sich die Musiker am Dorfteich mitten unter
  die Gäste mischen.KUNST trifft WEIN rund um den Lichtenrader Dorfteich&nbsp
 \;Wann:Freitag\, Sonnabend von 12 bis 23 Uhr\; Sonntag von 12 bis 20 Uhr.W
 o: Berlin Lichtenrade\, Alt-LichtenradeFür wen: Gourmets\, Kunstinteressierte\,
  Weinliebhaber*innenÖPNV: S-Bhf Lichtenrade\n\nViel Spass wünscht Gratis-in-Berl
 in\n\nLink zum Tip: \nZu den Gratis-in-Berlin Angeboten: http://www.gratis
 -in-berlin.de\n
DTSTART;VALUE=DATE:20260501
DTEND;VALUE=DATE:20260504
SUMMARY:Kunst trifft Wein - rund um den Lichtenrader Dorfteich
END:VEVENT
END:VCALENDAR
