BEGIN:VCALENDAR
VERSION:2.0
PRODID:-//Gratis-in-Berlin//NONSGML kigkonsult.se iCalcreator 2.14//
METHOD:PUBLISH
X-WR-CALNAME:Gratis-in-Berlin Tip Kalender
X-WR-CALDESC:Erhalte Gratis-in-Berlin Tips in deinem Kalender
BEGIN:VEVENT
UID:20260421T152244UTC-14966D6gSo@Gratis-in-Berlin
DTSTAMP:20260421T152244Z
DESCRIPTION:Datum und Anpfiff für das DFB-Pokalfinale 2026 in Berlin ist der 23.
  Mai 2026\, Anstoß 20 Uhr\, live im free TV und auf Sky. In Berlin einige P
 ublic Viewings und Fantreffpunkte.Eine Fanmeile am Brandenburger Tor gibt 
 es nicht. Fantreffpunkte nach Fans getrennt meist auf dem Alexanderplatz u
 nd am Breitscheidplatz rund um die Gedächtniskirche. Vermutlich wieder mit D
 Js und Bühnenprogramm Freitag und Samstag. Fankneipen der jeweiligen Finalteams
 \, wo es auch schon ein Vorglühen gibt\, sobald sie feststehen.Es gibt leider k
 ein offizielles Public Viewing\, aber der DFB hat letzts Mal ALLEN Biergärte
 n die Übertragung erlaubt. In Berlin gibt es vieleLocations für Fußball-Live-Über
 tragungen mit Stadion-Atmosphäre&nbsp\;(Fettschrift = klickbarer Link)&nbsp\
 ;Oder&nbsp\;einfach Augen aufmachen\, viele Kneipen werden auch in Deinem 
 Kiez bzw. an dem Ort\, wo Du zu Besuch bist\, übertragen. :-)Bis Freitag vor de
 m Finale können alle Interessierten wieder&nbsp\;den&nbsp\;Original-DFB-Pokal
  anschauen und fotografieren&nbsp\;im Roten Rathaus. Fans haben bis zum Fi
 nale wieder täglich eine Chance auf Selfies etc. Dann wandert der Pokal trad
 itionell weiter Richtung Olympiastadion.\n\nViel Spass wünscht Gratis-in-Berlin
 \n\nLink zum Tip: \nZu den Gratis-in-Berlin Angeboten: http://www.gratis-i
 n-berlin.de\n
DTSTART;VALUE=DATE:20260523
DTEND;VALUE=DATE:20260524
SUMMARY:DFB Pokal Endspiel Berlin 2026 Public Viewing Pokalfinale
END:VEVENT
END:VCALENDAR
