BEGIN:VCALENDAR
VERSION:2.0
PRODID:-//Gratis-in-Berlin//NONSGML kigkonsult.se iCalcreator 2.14//
METHOD:PUBLISH
X-WR-CALNAME:Gratis-in-Berlin Tip Kalender
X-WR-CALDESC:Erhalte Gratis-in-Berlin Tips in deinem Kalender
BEGIN:VEVENT
UID:20260421T155829UTC-9644J5xub4@Gratis-in-Berlin
DTSTAMP:20260421T155829Z
DESCRIPTION:Am 21. Juni\, dem Tag der Fete de la musiuqe\, starten wir in d
 en musikalischen Sonnabend mit unserem Kiezfest von 12 bis 16 Uhr. Wir sag
 en auch Nachbarschaftsfest dazu. Mit Musik\, Bühne\, Essen\, vielen Ständen von E
 inrichtungen aus dem Kiez und viel Gelegenheit\, die netten Nachbarn zu tr
 effen und viel Platz\, den nicht so netten aus dem Weg zu gehen. Wird lust
 ig! Kommt dazu!\n\nViel Spass wünscht Gratis-in-Berlin\n\nLink zum Tip: https:/
 /www.gratis-in-berlin.de/kalender/item/2072903-nachbarschaftsfest-brunnenv
 iertel\nZu den Gratis-in-Berlin Angeboten: http://www.gratis-in-berlin.de
 \n
DTSTART;VALUE=DATE:20250621
DTEND;VALUE=DATE:20250622
SUMMARY:Nachbarschaftsfest Brunnenviertel
END:VEVENT
END:VCALENDAR
