BEGIN:VCALENDAR
VERSION:2.0
PRODID:-//Gratis-in-Berlin//NONSGML kigkonsult.se iCalcreator 2.14//
METHOD:PUBLISH
X-WR-CALNAME:Gratis-in-Berlin Tip Kalender
X-WR-CALDESC:Erhalte Gratis-in-Berlin Tips in deinem Kalender
BEGIN:VEVENT
UID:20260419T145753UTC-6796ugiII8@Gratis-in-Berlin
DTSTAMP:20260419T145753Z
DESCRIPTION:Himmelfahrt + Vatertag 2027 in Berlin findet Ihr&nbsp\; viele t
 olle kostenlose Veranstaltungen&nbsp\;wie Straßenfeste\, Bierfeste\, Hafenf
 este\, Festwochen jeweils mit Bühnenpgoramm und Live-Musik\, Open Air Events\, 
 Bis dahin rechtzeitig aktualisiert bei unseren Tagestips\, über unseren Kalende
 r auswählbar und hier dann auch direkt verlinkt.&nbsp\;Datum für Himmelfahrt &amp
 \; Vatertag 2027 vormerken: Donnerstag der 6. Mai 2027.\n\nViel Spass wünscht G
 ratis-in-Berlin\n\nLink zum Tip: \nZu den Gratis-in-Berlin Angeboten: http
 ://www.gratis-in-berlin.de\n
DTSTART;VALUE=DATE:20270506
DTEND;VALUE=DATE:20270507
SUMMARY:Himmelfahrt 2027: Events\, Insider Tips + Veranstaltungen am Vatert
 ag
END:VEVENT
END:VCALENDAR
