BEGIN:VCALENDAR
VERSION:2.0
PRODID:-//Gratis-in-Berlin//NONSGML kigkonsult.se iCalcreator 2.14//
METHOD:PUBLISH
X-WR-CALNAME:Gratis-in-Berlin Tip Kalender
X-WR-CALDESC:Erhalte Gratis-in-Berlin Tips in deinem Kalender
BEGIN:VEVENT
UID:20260421T155732UTC-1216pacG9K@Gratis-in-Berlin
DTSTAMP:20260421T155732Z
DESCRIPTION:Wir feiern 10 Jahre Aufbau Haus mit einer großen Party im Rahmen
  der Fête de la Musique am 21.06.2025. Von früh bis spät gibt es ein vielseitiges P
 rogramm mit dem Fokus auf Nachhaltigkeit ? weil wir fest davon überzeugt sind\,
  dass ein gutes\, gemeinsames Leben für alle in Zukunft nachhaltig(er) sein mus
 s.Neben einem großen Flohmarkt erwarten euch inspirierende Vorträge und Gespr
 äche\, theatrale und Bewegungs-Workshops ebenso wie solche zum Upcycling\, k
 onkrete Hilfestellung bei der Fahrradreparatur oder der Planung eures Balk
 onkraftwerks und viele weitere Info- und Mitmach-Stationen. Das elektronis
 che Musikprogramm im Rahmen der Fête de la Musique startet gegen 16:00 Uhr ?
  und dann tanzen wir bis in die Nacht!***LINE-UP***16:00 - 17:30 loves_kil
 ls17:30 - 18:30 Carlo Karacho18:30 - 20:30 Klix B2B Beal Hogi20:30 - 22:00
  DJ Zurückbleiben bitte\n\nViel Spass wünscht Gratis-in-Berlin\n\nLink zum Tip: http
 s://www.gratis-in-berlin.de/festivals/item/2073141-fete-de-la-moritzplatz
 \nZu den Gratis-in-Berlin Angeboten: http://www.gratis-in-berlin.de\n
DTSTART;VALUE=DATE:20250621
DTEND;VALUE=DATE:20250622
SUMMARY:Fête de la Moritzplatz
END:VEVENT
END:VCALENDAR
