BEGIN:VCALENDAR
VERSION:2.0
PRODID:-//Gratis-in-Berlin//NONSGML kigkonsult.se iCalcreator 2.14//
METHOD:PUBLISH
X-WR-CALNAME:Gratis-in-Berlin Tip Kalender
X-WR-CALDESC:Erhalte Gratis-in-Berlin Tips in deinem Kalender
BEGIN:VEVENT
UID:20260421T111015UTC-137805pwSu@Gratis-in-Berlin
DTSTAMP:20260421T111015Z
DESCRIPTION:Auch bei der Staatsoper für alle 2025 gibt es ein Live-Konzert und a
 m Vorabend eine Opernübertragung auf dem Bebelplatz\,&nbsp\;SAMSTAG:19.00&nbsp\
 ;Live-Übertragung Roméo et Juliette von Charles GounodSONNTAG: 11.30&nbsp\;Op
 en-Air-Konzert Opernkinder&shy\;orchester mit Werkehn von&nbsp\;Peter I. T
 schaikowsky13.00&nbsp\; Open-Air-Konzert der Staatskapelle BerlinJohannes 
 BrahmsSinfonie Nr. 3 F-Dur op. 90Sinfonie Nr. 1 c-Moll op. 68Datum / Termi
 n der 21. / 22. Juni 2025\n\nViel Spass wünscht Gratis-in-Berlin\n\nLink zum Ti
 p: \nZu den Gratis-in-Berlin Angeboten: http://www.gratis-in-berlin.de\n
DTSTART;VALUE=DATE:20250621
DTEND;VALUE=DATE:20250622
SUMMARY:Staatsoper für alle 2025: Oper am Samstagabend
END:VEVENT
END:VCALENDAR
