BEGIN:VCALENDAR
VERSION:2.0
PRODID:-//Gratis-in-Berlin//NONSGML kigkonsult.se iCalcreator 2.14//
METHOD:PUBLISH
X-WR-CALNAME:Gratis-in-Berlin Tip Kalender
X-WR-CALDESC:Erhalte Gratis-in-Berlin Tips in deinem Kalender
BEGIN:VEVENT
UID:20260419T153814UTC-0710pkDVPx@Gratis-in-Berlin
DTSTAMP:20260419T153814Z
DESCRIPTION:Punktoberfest ab 14 Uhr. 'Blinker links' &amp\; 'Uli Sailor' al
 s Liveacts.Revaler Straße 99 auf dem RAW Gelände in&nbsp\;Berlin-Friedrichsha
 inReservierung über Website empfohlen\n\nViel Spass wünscht Gratis-in-Berlin\n\nLink
  zum Tip: https://www.gratis-in-berlin.de/festivals/item/2075004-punktober
 fest-auf-raw-gelaende\nZu den Gratis-in-Berlin Angeboten: http://www.grati
 s-in-berlin.de\n
DTSTART;VALUE=DATE:20250927
DTEND;VALUE=DATE:20250928
SUMMARY:Punktoberfest auf RAW-Gelände
END:VEVENT
END:VCALENDAR
