BEGIN:VCALENDAR
VERSION:2.0
PRODID:-//Gratis-in-Berlin//NONSGML kigkonsult.se iCalcreator 2.14//
METHOD:PUBLISH
X-WR-CALNAME:Gratis-in-Berlin Tip Kalender
X-WR-CALDESC:Erhalte Gratis-in-Berlin Tips in deinem Kalender
BEGIN:VEVENT
UID:20260422T195610UTC-5242XOi3Ox@Gratis-in-Berlin
DTSTAMP:20260422T195610Z
DESCRIPTION:15 bis 22 Uhr\, geschlossen vom 24. bis 26. DezemberIndoor Weih
 nachtsmarkt am Kudamm für Fans der Serienachgebaute Starcourt Mall\, Will Byers
  Couch\, Musik des WSQK-Radios 80er Jahre\n\nViel Spass wünscht Gratis-in-Berli
 n\n\nLink zum Tip: \nZu den Gratis-in-Berlin Angeboten: http://www.gratis-
 in-berlin.de\n
DTSTART;VALUE=DATE:20251204
DTEND;VALUE=DATE:20251231
SUMMARY:Stranger Things Weihnachtsmarkt (täglich außer 24.-26.12.)
END:VEVENT
END:VCALENDAR
