BEGIN:VCALENDAR
VERSION:2.0
PRODID:-//Gratis-in-Berlin//NONSGML kigkonsult.se iCalcreator 2.14//
METHOD:PUBLISH
X-WR-CALNAME:Gratis-in-Berlin Tip Kalender
X-WR-CALDESC:Erhalte Gratis-in-Berlin Tips in deinem Kalender
BEGIN:VEVENT
UID:20260421T145807UTC-87309FkPNc@Gratis-in-Berlin
DTSTAMP:20260421T145807Z
DESCRIPTION:Beim Baumblütenfest in Werder an der Havel (nahe Potsdam) gibt es wi
 eder ein zentrales Fest\, aber viele Obstwein-Plantagen laden auch zum dor
 t etwas entspannenderen Verweilen ein.Baumblütenfest besteht aus drei Bausteine
 n. Zunächst öffnen traditionell zahlreiche Höfe und Gärten in der Stadt und auf den 
 Plantagen ihre Tore. Ab dem 1. Mai wird mit dem Start des Rummels auf dem 
 Hartplatz und dem Kinderbereich am Ufer des Mühlenbergs auf der Insel die Innen
 stadt belebt. Das große Volksfest im Mai bildet den fulminanten Abschluss m
 it vielfältigen Angeboten für Groß und Klein sowie mehreren Bühnen zwischen Bismarckhöhe u
 nd Insel.Öffnungszeiten für das Volksfest:&nbsp\;Montag bis Freitag von 13:00 bi
 s 22:00 Uhr\, und Samstag\, Sonntag und am Maifeiertag von 11:00 bis 22:00
  UhrHöehpunkt bisher Samstag:11 Uhr: Baumblüten-Festumzug von der Moosfennstraße vi
 a Brandenburger Straße zum Hartplatz22 Uhr: Höhenfeuerwerk an der Regattestrec
 keDas Baumblütenfest wird traditionell mit dem großen Festumzug am Samstag einge
 leitet (13 Uhr). Die feierliche Eröffnung erfolgt mit der Bekanntgabe der neu
 en Blütenkönigin. Danach gibt es im gesamten Stadtgebiet auf mehreren Bühnen ein bun
 tes Musik-Programm. Zum Verkauf stehen typische Werder-Produkte\, Obstwein
 e\, Obstler und Blumen. Und auch private Garten sind geöffnet. Ort: 14542 Wer
 der (Havel)\n\nViel Spass wünscht Gratis-in-Berlin\n\nLink zum Tip: \nZu den Gr
 atis-in-Berlin Angeboten: http://www.gratis-in-berlin.de\n
DTSTART;VALUE=DATE:20260501
DTEND;VALUE=DATE:20260504
SUMMARY:Baumblütenfest Werder / Havel 2026 bei Potsdam
END:VEVENT
END:VCALENDAR
