BEGIN:VCALENDAR
VERSION:2.0
PRODID:-//Gratis-in-Berlin//NONSGML kigkonsult.se iCalcreator 2.14//
METHOD:PUBLISH
X-WR-CALNAME:Gratis-in-Berlin Tip Kalender
X-WR-CALDESC:Erhalte Gratis-in-Berlin Tips in deinem Kalender
BEGIN:VEVENT
UID:20260419T145310UTC-1472vJaTvS@Gratis-in-Berlin
DTSTAMP:20260419T145310Z
DESCRIPTION:Das UMWELTFESTIVAL wird von der GRÜNEN LIGA Berlin e.V. organisi
 ert und ist eine der größten Veranstaltungen zu Umwelt-\, Klima- und Natursch
 utz in Deutschland. Im Fokus steht das Thema Boden in all seiner Vielfalt\
 , Funktion und Bedeutung für uns Alle. Besuchende erwartet eine bunte Festivalm
 eile mit spannenden Ausstellenden\, Mitmachaktionen\, informativen Debatte
 n und einem unterhaltsamen Bühnenprogramm. Auch für kulinarische Highlights aus ökologi
 schem Anbau wird gesorgt. Es ist ein Tag voller Inspiration\, Begegnung un
 d Ideen für eine nachhaltige Zukunft - für Jung und Alt gleichermaßen.\n\nViel Spass 
 wünscht Gratis-in-Berlin\n\nLink zum Tip: https://www.gratis-in-berlin.de/festi
 vals/item/2077673-umweltfestival-2026\nZu den Gratis-in-Berlin Angeboten: 
 http://www.gratis-in-berlin.de\n
DTSTART;VALUE=DATE:20260607
DTEND;VALUE=DATE:20260608
SUMMARY:Umweltfestival 2026
END:VEVENT
END:VCALENDAR
