BEGIN:VCALENDAR
VERSION:2.0
PRODID:-//Gratis-in-Berlin//NONSGML kigkonsult.se iCalcreator 2.14//
METHOD:PUBLISH
X-WR-CALNAME:Gratis-in-Berlin Tip Kalender
X-WR-CALDESC:Erhalte Gratis-in-Berlin Tips in deinem Kalender
BEGIN:VEVENT
UID:20260421T183750UTC-27004FSVrg@Gratis-in-Berlin
DTSTAMP:20260421T183750Z
DESCRIPTION:Willkommen zum Auftakt der Mega Manga Convention in Berlin! Als
  einer der bedeutenden Treffpunkte für Manga-\, Anime-\, Comic- und Popkultur-F
 ans in Berlin und Brandenburg lädt die MMC-Berlin zu einem unvergesslichen E
 rlebnis ein. Dieses Jahr auch wieder mit Angeboten in der Bibliothek im Märk
 ischen Viertel! Cosplay-Workshop\, Amigurumis häkeln\, Zeichenworkshop\, Spi
 elangebot ?Mangaka?\, Upcycling\, Kids Cosplay Catwalk Eine Kooperation mi
 t dem Verein MMC-Berlin e.V.\, dem Literaturhaus Berlin und der Stadtbibli
 othek Reinickendorf.Eintritt frei - ohne Anmeldung (Kein Ticket für die MMC nötig!
 ) \; 11 - 17 Uhr\n\nViel Spass wünscht Gratis-in-Berlin\n\nLink zum Tip: \nZu d
 en Gratis-in-Berlin Angeboten: http://www.gratis-in-berlin.de\n
DTSTART;VALUE=DATE:20260515
DTEND;VALUE=DATE:20260516
SUMMARY:Mini Manga Convention zur 'Mega Manga Convention - Berlin'
END:VEVENT
END:VCALENDAR
