BEGIN:VCALENDAR
VERSION:2.0
PRODID:-//Gratis-in-Berlin//NONSGML kigkonsult.se iCalcreator 2.14//
METHOD:PUBLISH
X-WR-CALNAME:Gratis-in-Berlin Tip Kalender
X-WR-CALDESC:Erhalte Gratis-in-Berlin Tips in deinem Kalender
BEGIN:VEVENT
UID:20260424T144505UTC-1995hMpsEg@Gratis-in-Berlin
DTSTAMP:20260424T144505Z
DESCRIPTION:Tanzen gehört jedem Körper ? von 0 bis Unendlich. TANZ MIT! bringt Ta
 nz auf den Potsdamer Platz: 16 Tage lang\, täglich\, bei freiem Eintritt. Kl
 assisches Ballett\, Hip-Hop\, Bachata\, Lindy Hop\, Tango\, Butoh und mehr
  ? über 200 Berliner Tanzkünstler:innen verwandeln den öffentlichen Raum in eine Bühne für alle. 
 Einfach vorbeikommen. Zuschauen\, mitmachen\, tanzen lernen. \n\nViel Spas
 s wünscht Gratis-in-Berlin\n\nLink zum Tip: \nZu den Gratis-in-Berlin Angeboten
 : http://www.gratis-in-berlin.de\n
DTSTART;VALUE=DATE:20260626
DTEND;VALUE=DATE:20260712
SUMMARY:TANZ MIT! ? Kostenloses Tanzfestival am Potsdamer Platz (26. Juni ?
  11. Juli\, tägl.)
END:VEVENT
END:VCALENDAR
