BEGIN:VCALENDAR
VERSION:2.0
PRODID:-//Gratis-in-Berlin//NONSGML kigkonsult.se iCalcreator 2.14//
METHOD:PUBLISH
X-WR-CALNAME:Gratis-in-Berlin Tip Kalender
X-WR-CALDESC:Erhalte Gratis-in-Berlin Tips in deinem Kalender
BEGIN:VEVENT
UID:20260421T151821UTC-0744Bv4E6l@Gratis-in-Berlin
DTSTAMP:20260421T151821Z
DESCRIPTION:Auch dieses Jahr Feuerwerk auf dem Frühlingsfest Berlin ab ca. 22 Uh
 r\, das letzte in diesem Jahr. Entfacht über dem Festplatz am Kurt-Schumacher-D
 amm in Reinickendorf. Das Frühlingsfest mit vielen Schausteller-Geschäften ist sa
 mstags bis 23 Uhr geoffnet. Eintritt frei.Per Klick auf folgenden Link gib
 ts eine Übersicht künftiger&nbsp\;Feuerwerke in Berlin&nbsp\;(Fettschrift = klic
 bar).&nbsp\;Und Per Klick hierauf&nbsp\;weitere spannende&nbsp\;Berlin Eve
 nt Tips für heute&nbsp\;&nbsp\;bzw. besondere&nbsp\;Berlin Erlebnisse morgen.\n
 \nViel Spass wünscht Gratis-in-Berlin\n\nLink zum Tip: https://www.gratis-in-be
 rlin.de/feuerwerk/item/2009436-hoehenfeuerwerk-auf-fruehlingsfest-berlin\n
 Zu den Gratis-in-Berlin Angeboten: http://www.gratis-in-berlin.de\n
DTSTART;VALUE=DATE:20260501
DTEND;VALUE=DATE:20260502
SUMMARY:Höhenfeuerwerk auf Frühlingsfest Berlin
END:VEVENT
END:VCALENDAR
