BEGIN:VCALENDAR
VERSION:2.0
PRODID:-//Gratis-in-Berlin//NONSGML kigkonsult.se iCalcreator 2.14//
METHOD:PUBLISH
X-WR-CALNAME:Gratis-in-Berlin Tip Kalender
X-WR-CALDESC:Erhalte Gratis-in-Berlin Tips in deinem Kalender
BEGIN:VEVENT
UID:20260419T130410UTC-85054iZeUj@Gratis-in-Berlin
DTSTAMP:20260419T130410Z
DESCRIPTION:Festival der Riesendrachen von 11 bis 20 Uhr auf der Tempelhofe
 r Freiheit.&nbsp\;Ab&nbsp\; ca. 19 Uhr 30 wieder Feuerwerk mit Musik über dem T
 empelhofer Feld. Dieses Jahr wohl viele Bären\, weil das Hauptthema und erst
 mals soll es beleuchtete Drachen / Drohnen geben.Bei dem Familienfest sind
  alle Berlinerinnen und Berliner sowie Gäste der Stadt eingeladen\, die Großd
 rachen zu bestaunen. Der Eintritt ist frei. Ab 11 Uhr tanzen Lenkdrachen\,
  fantastische Drachenfiguren-Unikate und besonders ausgefallene Ein- bzw. 
 Zweileinermodelle am Himmel über dem Tempelhofer Feld.&nbsp\;Programm- und Drac
 hen-Highlights u.a. Batman und Superman.&nbsp\;Auch internationale Teams u
 .a. aus Polen\, Italien\, Frankreich und Belgien sind in diesem Jahr wiede
 r am Start. Und sicher wieder Unikate ein&nbsp\;47 Meterr Oktopus\, Bowls 
 mit 16 Meter\,&nbsp\;Fliegende Ufos\, Chinesische Drachen\, ein David Bowi
 e Drachen\, ....Und per Klick auf folgende Links in Fettschrift gibts weit
 ere bzw. immer spannende kostenfreie&nbsp\;Berlin Event Tips für heute&nbsp\;(F
 ettschrift = klicbar)&nbsp\;bzw.&nbsp\;Berlin Veranstaltungen morgen.\n\nV
 iel Spass wünscht Gratis-in-Berlin\n\nLink zum Tip: \nZu den Gratis-in-Berlin A
 ngeboten: http://www.gratis-in-berlin.de\n
DTSTART;VALUE=DATE:20250927
DTEND;VALUE=DATE:20250928
SUMMARY:Festival der Riesendrachen auf Tempelhofer Feld mit Feuerwerk & Neu
 heiten
END:VEVENT
END:VCALENDAR
