BEGIN:VCALENDAR
VERSION:2.0
PRODID:-//Gratis-in-Berlin//NONSGML kigkonsult.se iCalcreator 2.14//
METHOD:PUBLISH
X-WR-CALNAME:Gratis-in-Berlin Tip Kalender
X-WR-CALDESC:Erhalte Gratis-in-Berlin Tips in deinem Kalender
BEGIN:VEVENT
UID:20260419T122214UTC-7824cJf27D@Gratis-in-Berlin
DTSTAMP:20260419T122214Z
DESCRIPTION:Vielleicht ist vom Feuerwerk auch von außen/Aussichtspunkten was
  zu sehen\, ansonsten folgende Infos zum Event:&nbsp\;Eintrittspreis (Park
 eintritt) &nbsp\;Jahreskarteninhaber haben freien EintrittFeuerlabyrinth i
 m Britzer Garten von 19 bis 21 Uhr\, dann Abschlussfeuerwerk Barockfeuerwe
 rk über dem See.&nbsp\;Bei dieser traditionsreichen Veranstaltung sind Besucher
  gebeten\, das Labyrinth aus Kerzen mitzugestalten und mit ihren eigenen K
 erzen noch mehr zum Strahlen zu bringen.Das Rahmenprogramm bietet Musik\, 
 Tanz\, Erzählungen\, eine Feuershow und zum Abschluss ein Feuerwerk über dem See.
 Britzer GartenEingänge:Mohriner Allee U6 Bhf. Alt-Mariendorf / Bus 181Buckow
 er Damm S/U-Bhf Hermannstraße / Bus M 44Tauernallee und Sangerhauser Weg U6
  Bhf. Alt Mariendorf / Bus 179Ort: Spiel- und Liegewiese am Rodelberg.Per 
 Klick auf folgenden Link findet Ihr&nbsp\;Tips für aktuelle/künftige Feuerwerke in B
 erlin&nbsp\;(Fettschrit = Link)&nbsp\;Und per Klick auf folgende Links in 
 Fettschrift gibts weitere spannende&nbsp\;Berlin Event Tips für heute&nbsp\; bz
 w.&nbsp\;Berlin Veranstaltungen morgen.&nbsp\;\n\nViel Spass wünscht Gratis-in-
 Berlin\n\nLink zum Tip: \nZu den Gratis-in-Berlin Angeboten: http://www.gr
 atis-in-berlin.de\n
DTSTART;VALUE=DATE:20250927
DTEND;VALUE=DATE:20250928
SUMMARY:Feuerlabyrinth mit Feuerwerk im Britzer Garten
END:VEVENT
END:VCALENDAR
