BEGIN:VCALENDAR
VERSION:2.0
PRODID:-//Gratis-in-Berlin//NONSGML kigkonsult.se iCalcreator 2.14//
METHOD:PUBLISH
X-WR-CALNAME:Gratis-in-Berlin Tip Kalender
X-WR-CALDESC:Erhalte Gratis-in-Berlin Tips in deinem Kalender
BEGIN:VEVENT
UID:20260421T161307UTC-999750J0ar@Gratis-in-Berlin
DTSTAMP:20260421T161307Z
DESCRIPTION:Kiez-Flohmarkt:\nOb Trodler\, Schatzsucher oder einfach Flaneur
 \, sie sind alle herzlich auf den traditionellen Familienflohmarkt auf dem
  Zickenplatz eingeladen. Für Trodler gilt: Der Aufbau erfolgt ab 10 Uhr! (Bitte
  nicht früher) Tische müssen bitte selber mitgebracht werden. \nAnmeldungen sind unt
 er flohmarkt@graefe-kiez.de unter Angabe des Namens\, der Anzahl der Tisch
 e und der Telefonnummer oder über das Anmelderformular unter www.graefe-kiez.de
  moglich. Anmeldungszeitraum: 10.08.- 31.08.2012 Pro Tisch (max. 3m) ist e
 ine Gebühr in Hohe von 7 -¬ zu entrichten. Nicht verkaufte Waren und Müll bitte wiede
 r mitnehmen.\nBahar Sanli: Tel. 690 497 21 gekko@nachbarschaftshaus.de\nAn
 fang:\nSo\, 31.08.2012 um 12:00 Uhr\nEnde:\nSo\, 31.08.2012 um 16:00 Uhr\n
 \nKopiert/editiert von www.Nachbarschaftshaus.de\nBjorn Edler\n\nViel Spas
 s wünscht Gratis-in-Berlin\n\nLink zum Tip: https://www.gratis-in-berlin.de/ite
 m/2006570-flohmarkt-im-graefekiez\nZu den Gratis-in-Berlin Angeboten: http
 ://www.gratis-in-berlin.de\n
DTSTART;VALUE=DATE:20120916
DTEND;VALUE=DATE:20120917
SUMMARY:Flohmarkt im Graefekiez
END:VEVENT
END:VCALENDAR
