BEGIN:VCALENDAR
VERSION:2.0
PRODID:-//Gratis-in-Berlin//NONSGML kigkonsult.se iCalcreator 2.14//
METHOD:PUBLISH
X-WR-CALNAME:Gratis-in-Berlin Tip Kalender
X-WR-CALDESC:Erhalte Gratis-in-Berlin Tips in deinem Kalender
BEGIN:VEVENT
UID:20260420T234345UTC-1800TBpi4a@Gratis-in-Berlin
DTSTAMP:20260420T234345Z
DESCRIPTION:Mo.\, 23.02.2015\, 19:30 UhrHU Hauptgebäude\, Unter den Linden 6\
 , Hörsaal 2002Airport 1994 ? ein kleiner Lesbenporno und seine großen FolgenMi
 t der Regisseurin Manuela Kay Im Jahr 1994 entstand in Berlin ein 33 minütiges 
 Amateur- Video\, das Furore machen sollte... Aus den Erfahrungen des früheren F
 ilmprojekts ?Du Darfst' in dem zum Thema Safer Sex für Lesben dieser auch expli
 zit gezeigt wurde und heftige\, teils ausfällige und zutiefst schockierte Re
 aktionen beim weiblichen Publikum auslöste taten sich Silke Dunkhorst und Man
 uela Kay zusammen\, um diese überraschenden Reaktionen auszuwerten und die Erfa
 hrungen daraus in einen neuen Film resultieren zu lassen: Es entstand ?Deu
 tschlands erster Lesbenporno'\, eine Tatsache\, die den Macherinnen erst s
 päter bewusst wurde. Als Experiment wollten sie das unaussprechliche\, nämlich
  Lesbensex\, authentisch\, unverklemmt\, leidenschaftlich\, spaßig und mit 
 viel Fantasie auf die Leinwand bringen um dem schamvollen Umgang mit lesbi
 scher Sexualität etwas entgegen zu setzen. Im Winter und Frühjahr 1994 entstand u
 nter Mitwirkung und Mithilfe vieler Freundinnen und Bekanntschaften aus de
 r Lesbenszene ein auf geborgten S-VHS Kameras gedrehter Videofilm. Viele d
 er Beteiligten vor und hinter der Kamera hatten hierbei ihren ersten Filme
 insatz jemals\, sollten später aber\, zumindest hinter der Kamera\, professi
 onelle Karrieren im Filmgeschäft einschlagen. Mit einem Budget von 2.000 DM 
 wurde das kleine Projekt umgesetzt und hatte seine Weltpremiere ausgerechn
 et auf der prestigeträchtigen ?Feminale' in Köln was zu einem riesigen und für alle 
 Beteiligten völlig unerwarteten Medienhype führte. Allein die Nachricht\, dass Les
 ben so ausführlichen und zeigbaren Sex haben könnten\, schien eine Meldung wert. M
 anuela Kay wird am 23. Februar um 19.30 ?Airport' zeigen und darüber berichten\
 , wie es war Lesbensex auf ein völlig unvorbereitetes Publikum loszulassen. W
 ie sie und die mittlerweile leider verstorbene Silke Dunkhorst mit ihrem k
 leinen Film in aller Welt für Furore sorgen\, wie die Premierenparty des Films 
 im SchwuZ für den wohl vollsten Lesbendarkroom aller Zeiten sorgten und wie Les
 ben 20 Jahre nach Airport doch noch die Scham vor Porno und Sex verloren h
 aben. Zutritt zur Veranstaltung ab 18 Jahren. (Quelle: Internetseite)\n\nV
 iel Spass wünscht Gratis-in-Berlin\n\nLink zum Tip: \nZu den Gratis-in-Berlin A
 ngeboten: http://www.gratis-in-berlin.de\n
DTSTART;VALUE=DATE:20150223
DTEND;VALUE=DATE:20150224
SUMMARY:Airport 1994 ? ein kleiner Lesbenporno und seine großen Folgen
END:VEVENT
END:VCALENDAR
