BEGIN:VCALENDAR
VERSION:2.0
PRODID:-//Gratis-in-Berlin//NONSGML kigkonsult.se iCalcreator 2.14//
METHOD:PUBLISH
X-WR-CALNAME:Gratis-in-Berlin Tip Kalender
X-WR-CALDESC:Erhalte Gratis-in-Berlin Tips in deinem Kalender
BEGIN:VEVENT
UID:20260419T154152UTC-4843AVtKU8@Gratis-in-Berlin
DTSTAMP:20260419T154152Z
DESCRIPTION:Kolonnaden Bar auf der Museumsinsel mit Sommerprogramm in einem
  ganz besonderen Ambiente: dem Kolonnadenhof bei der Alten Nationalgalerie
 . Wird verlängert bis Mitte September! :-)Mittwoch: Ambient mit ruhigen Klan
 glandschaften Donnerstag: Akustische Konzerte\, Singer- SongwriterFreitag:
  Bühne für Kollektive der StadtSamstag: DJ-Sets und Disco\, TanzenSonntag: Kassische
 r Musik\, Oper\, JazzÖffnungszeiten der Kolonnaden Bar: Mittwoch und Donner
 stag von 14 bis 22 Uhr\, Freitag bis Sonntag von 12 bis 22 Uhr\n\nViel Spa
 ss wünscht Gratis-in-Berlin\n\nLink zum Tip: \nZu den Gratis-in-Berlin Angebote
 n: http://www.gratis-in-berlin.de\n
DTSTART;VALUE=DATE:20250605
DTEND;VALUE=DATE:20250915
SUMMARY:Kolonnaden Bar auf Museumsinsel mit Musik (Mi - So)
END:VEVENT
END:VCALENDAR
