BEGIN:VCALENDAR
VERSION:2.0
PRODID:-//Gratis-in-Berlin//NONSGML kigkonsult.se iCalcreator 2.14//
METHOD:PUBLISH
X-WR-CALNAME:Gratis-in-Berlin Tip Kalender
X-WR-CALDESC:Erhalte Gratis-in-Berlin Tips in deinem Kalender
BEGIN:VEVENT
UID:20260422T171941UTC-6644jF9u72@Gratis-in-Berlin
DTSTAMP:20260422T171941Z
DESCRIPTION:Die Initiative Grundeinkommen Berlin (Ini-BGE Berlin) ist eine 
 offene Gruppe als Informationsquelle und Anlaufstelle in Berlin zum Thema 
 Bedingungsloses Grundeinkommen (BGE) mit Infomaterial\, Themen-Gesprächen in
  Form von Brainstorming\, Diskussionen und Kurzvorträgen sowie Klärung Organis
 atorischem.Die Initiative Grundeinkommen Berlin arbeitet parteiunabhängig\, 
 parteineutral und parteiübergreifend.Mitglied und Regionalinitiative des 'Netzw
 erk Grundeinkommen'\; Anfang 2005 gegründet\; Diskussionen über Google-Group Mailing
 liste http://groups.google.com/group/ini-bge/ oder Facebook-Gruppe www.fac
 ebook.com/groups/InitiativeGrundeinkommenBerlin/ Wir trafen uns Juli 2017 
 bis Dezember 2021 einmal im Monat. Seit 2022 treffen wir uns jährlich im März 
 (exakt 6 Monate vor dem Internationalen BGE-Stammtisch Berlin im September
 ).Mi 23.03.2022 um 19-22 Uhr\, Offenes Treffen der Initiative Grundeinkomm
 en Berlin jährlich im März im Restaurant MIO Berlin\, Panoramastr. 1a\, 10178 
 Berlin\, www.mioberlin.de\, Alexanderplatz direkt unterm Fernsehturm Südost-Sei
 te draußen\, Eintritt frei und kostenloses erstes Freigetränk\, https://grund
 einkommenberlin.wordpress.com/infos/#1 bzw. www.facebook.com/events/329870
 595601812/Selbstverständlich können Unterschriften zur Europäische Bürgerinitiative Be
 dingungsloses Grundeinkommen www.ebi-grundeinkommen.de bzw. www.facebook.c
 om/EBIBGE/ abgegeben und geleistet werden. Insofern wird auch der bis 25.0
 6.2022 gehende EBI Grundeinkommen Endspurt www.facebook.com/events/4810714
 612316534/ besprochen.Um Beachtung der dann geltenden gesetzlichen Auflage
 n zum Coronavirus (COVID-19) wird hingewiesen.Fr 23.09.2022 um 18-23 Uhr\,
  Gespräche &amp\; Information &amp\; Vernetzungstreffen '5. Internationaler 
 BGE-Stammtisch - Berlin' mit verschiedenen BGE-Gruppierungen im Restaurant
  Cancún am Alexanderplatz\, Rathausstr. 5-13\, 10178 Berlin\, www.cancun-resta
 urant.de\, Eintritt frei und kostenloses warmes Buffet\, https://grundeink
 ommenberlin.wordpress.com/infos/#2 bzw. www.facebook.com/events/5008042914
 09263/Mo-So 19.-25.09.2022\, 15. Internationale Woche des Grundeinkommens 
 (15th International Basic Income Week 'Basic Income is basic humanism!')\,
  www.woche-des-grundeinkommens.eu und www.basicincomeweek.org mit:Do-So 01
 .-25.09.2022 'Basic Income Profile Picture Action' +Mi 21.09.2022 'Count o
 n Basic Income Photo Action' +Fr 23.09.2022 '5th International Basic Incom
 e Beer' +Sa 24.09.2022 '4th International Basic Income March'Veranstaltung
 en in Berlin zum Thema Bedingungsloses Grundeinkommen (BGE) siehe auch www
 .facebook.com/InitiativeGrundeinkommenBerlin/events/ bzw. www.grundeinkomm
 enberlin.wordpress.com/infos/#4?Bedingungsloses Grundeinkommen? im Sinne d
 er Definition des Netzwerk Grundeinkommen www.grundeinkommen.de/grundeinko
 mmen/idee/ mit den 4 Kriterien:'Das bedingungslose Grundeinkommen ist ein 
 Einkommen für alle Menschen\,? das Existenz sichernd ist und gesellschaftliche 
 Teilhabe ermöglicht\,? auf das ein individuellen Rechtsanspruch besteht\,? da
 s ohne Bedürftigkeitsprüfung und? ohne Zwang zu Arbeit oder anderen Gegenleistungeng
 arantiert wird.'Kontakt &amp\; Infos zur Initiative Grundeinkommen Berlin 
 (Ini-BGE Berlin):? Webseite: www.grundeinkommen-berlin.de? Facebook-Seite:
  www.facebook.com/InitiativeGrundeinkommenBerlin/? Facebook-Gruppe: www.fa
 cebook.com/groups/InitiativeGrundeinkommenBerlin/? Google-Group Mailinglis
 te: http://groups.google.com/group/ini-bge/? RSS-Feed: www.grundeinkommenb
 erlin.wordpress.com/feed/\n\nViel Spass wünscht Gratis-in-Berlin\n\nLink zum Ti
 p: \nZu den Gratis-in-Berlin Angeboten: http://www.gratis-in-berlin.de\n
DTSTART;VALUE=DATE:20220323
DTEND;VALUE=DATE:20220324
SUMMARY:Offene Treffen 2022 Initiative Grundeinkommen Berlin mit kostenlose
 s erstes Freigetränk
END:VEVENT
END:VCALENDAR
