BEGIN:VCALENDAR
VERSION:2.0
PRODID:-//Gratis-in-Berlin//NONSGML kigkonsult.se iCalcreator 2.14//
METHOD:PUBLISH
X-WR-CALNAME:Gratis-in-Berlin Tip Kalender
X-WR-CALDESC:Erhalte Gratis-in-Berlin Tips in deinem Kalender
BEGIN:VEVENT
UID:20260419T130818UTC-3804fbcEAU@Gratis-in-Berlin
DTSTAMP:20260419T130818Z
DESCRIPTION:OFFENER FAMILIEN-FLOHMARKTmit Spielplatz und kleinem Buffet am 
 10. Mai 2026 von 14 bis 18 UhrVERKAUFENFür Verkäufer:innen ist eine Anmeldung erf
 orderlich. Der Aufbau beginnt um 13 Uhr und die Gebühr beträgt 7?. Tische oder De
 cken als Verkaufsfläche bitte selbst mitbringen.&nbsp\;KONTAKT UND ANMELDUNG
  (FÜR VERKÄUFER:INNEN)030 617 790 913 und 0176 2700 8157elterntreff-joha@kin
 dervilla-waldemar.defamilienzentrum@kindervilla-waldemar.de\n\nViel Spass 
 wünscht Gratis-in-Berlin\n\nLink zum Tip: https://www.gratis-in-berlin.de/leute
 -treffen/item/2060095-familien-flohmarkt\nZu den Gratis-in-Berlin Angebote
 n: http://www.gratis-in-berlin.de\n
DTSTART;VALUE=DATE:20260510
DTEND;VALUE=DATE:20260511
SUMMARY:Familien-Flohmarkt
END:VEVENT
END:VCALENDAR
