BEGIN:VCALENDAR
VERSION:2.0
PRODID:-//Gratis-in-Berlin//NONSGML kigkonsult.se iCalcreator 2.14//
METHOD:PUBLISH
X-WR-CALNAME:Gratis-in-Berlin Tip Kalender
X-WR-CALDESC:Erhalte Gratis-in-Berlin Tips in deinem Kalender
BEGIN:VEVENT
UID:20260424T114525UTC-50360XEipf@Gratis-in-Berlin
DTSTAMP:20260424T114525Z
DESCRIPTION:In den historischen Volkssagen\, auf denen Goethe mit seiner Ha
 ndlung aufbaut\, ist nach der Gretchentragödie Schluss und Faust wird auf gra
 usige Weise ?vom Teufel geholt?. Esoterisch betrachtet können wir ein ganz an
 deres Geschehen betrachten: Die menschliche Seele hat einen unsterblichen 
 Kern der seine Reise in einem 2. Teil fortsetzt und in tiefere Bewusstsein
 sschichten vordringt. Faust wird zu einem ?Zeitreisenden?.\n\nViel Spass w
 ünscht Gratis-in-Berlin\n\nLink zum Tip: \nZu den Gratis-in-Berlin Angeboten: h
 ttp://www.gratis-in-berlin.de\n
DTSTART;VALUE=DATE:20231122
DTEND;VALUE=DATE:20231123
SUMMARY:Esoterische Betrachtung des 'Faust' von Johann Wolfgang von Goethe 
 (2)
END:VEVENT
END:VCALENDAR
