BEGIN:VCALENDAR
VERSION:2.0
PRODID:-//Gratis-in-Berlin//NONSGML kigkonsult.se iCalcreator 2.14//
METHOD:PUBLISH
X-WR-CALNAME:Gratis-in-Berlin Tip Kalender
X-WR-CALDESC:Erhalte Gratis-in-Berlin Tips in deinem Kalender
BEGIN:VEVENT
UID:20260420T143244UTC-9001OnxiaB@Gratis-in-Berlin
DTSTAMP:20260420T143244Z
DESCRIPTION:In den vergangenen Jahren sind zahlreiche Brettspiele erschiene
 n\, die sich dem Thema Evolution und Darwins Reisen annehmen. Eine fantast
 ische Möglichkeit\, uns nicht nur über den Lauf des Lebens auszutauschen\, sondern
  auch über das Prinzip Zufall und darüber\, was wir aus solchen Trends noch erfahren
  können. Wie bilden die Spiele das Thema ab? Was wissen wir\, wenn wir spiele
 n? Was sagen Spiele über die Gesellschaften\, aus denen sie stammen? Wie gut läss
 t sich Wissen über Artenvielfalt\, Evolution oder Aussterbeereignisse durch Spi
 ele erschließen?Hand in Hand lassen uns Biolog*innen und Historiker*innen h
 inter die Kulissen schauen. Gemeinsam tauchen wir dann spielerisch ein in 
 die faszinierende Brettspiel-Welt rund um Charles Darwin. Erleben Sie eine
 n Abend voller Wissen\, Spaß und interaktiver Spiele. Sichern Sie sich jetz
 t Ihren Platz! Der Eintritt ist frei\, Anmeldung ist nötig unter: naturwissen
 @mfn.berlinDas Projekt entstand im Rahmen des Netzwerk Naturwissen\, eine 
 Initiative des Museum für Naturkunde Berlin und seinen Partner*innen aus Berlin
  und Brandenburg.\n\nViel Spass wünscht Gratis-in-Berlin\n\nLink zum Tip: \nZu 
 den Gratis-in-Berlin Angeboten: http://www.gratis-in-berlin.de\n
DTSTART;VALUE=DATE:20231113
DTEND;VALUE=DATE:20231114
SUMMARY:Spielend zu Darwin - Brettspiel- und Infoabend zu Darwins Reisen
END:VEVENT
END:VCALENDAR
