BEGIN:VCALENDAR
VERSION:2.0
PRODID:-//Gratis-in-Berlin//NONSGML kigkonsult.se iCalcreator 2.14//
METHOD:PUBLISH
X-WR-CALNAME:Gratis-in-Berlin Tip Kalender
X-WR-CALDESC:Erhalte Gratis-in-Berlin Tips in deinem Kalender
BEGIN:VEVENT
UID:20260420T155940UTC-6575EW4VVB@Gratis-in-Berlin
DTSTAMP:20260420T155940Z
DESCRIPTION:Der Tod ist alltäglicher Teil unseres Lebens\, wir sind von ihm u
 mgeben. Und doch sind wir überrascht\, wenn er bei uns anklopft\, wenn er uns p
 lötzlich nahekommt. Zu gern verdrängen wir\, dass unsere Zeit begrenzt ist. Abe
 r wird das Leben nicht erst durch seine Endlichkeit kostbar? Im Rahmen die
 ses Salons widmen sich Heidi Berkmüller und Tanja Rommler dem Tod im Alltag. De
 nkanstöße geben und sich austauschen\, wie die Themen Sterben\, Tod und Traue
 r das Leben vielleicht sogar bereichern können. Dabei gibt es keine Expert*in
 nen\, kein Richtig oder Falsch\, alle sind mit ihren eigenen Erfahrungen u
 nd Ansichten willkommen. Heidi entwickelte bereits als Kind eine Faszinati
 on für den Tod. Sei es durch das benachbarte Krematorium\, aus dem regelmäßig Asc
 he in den Familiengarten wehte oder die toten Tiere\, die sie am Wegesrand
  fand. Als Sterbebegleiterin steht sie nun Menschen am Ende ihres Lebens z
 ur Seite. Tanja war schon früh mit dem Tod naher Menschen konfrontiert. Als Erw
 achsene erlebt sie\, dass die Beschäftigung mit dem Thema ihr Leben intensiv
 er macht. Wir freuen uns auf euren Besuch am 8. November.\n\nViel Spass wünscht
  Gratis-in-Berlin\n\nLink zum Tip: \nZu den Gratis-in-Berlin Angeboten: ht
 tp://www.gratis-in-berlin.de\n
DTSTART;VALUE=DATE:20231108
DTEND;VALUE=DATE:20231109
SUMMARY:Café Totentanz - Gespräche über den Tod - queer Edition
END:VEVENT
END:VCALENDAR
