BEGIN:VCALENDAR
VERSION:2.0
PRODID:-//Gratis-in-Berlin//NONSGML kigkonsult.se iCalcreator 2.14//
METHOD:PUBLISH
X-WR-CALNAME:Gratis-in-Berlin Tip Kalender
X-WR-CALDESC:Erhalte Gratis-in-Berlin Tips in deinem Kalender
BEGIN:VEVENT
UID:20260420T141938UTC-8187HP9uMB@Gratis-in-Berlin
DTSTAMP:20260420T141938Z
DESCRIPTION:Haiku sind sehr kurze Gedichte\, die in Japan eine lange Tradit
 ion haben. In den letzten hundert Jahren haben sie sich über die ganze Welt ver
 breitet. Die Kürze der Texte bewirkt\, jedes Wort genau zu prüfen und Unwichtiges we
 gzulassen. Petra Klingl stellt die Gedichtform und Beispiele aus der japan
 ischen Tradition vor. Im zweiten Teil geht es ums eigene Haikuschreiben. U
 nter Anleitung werden die Teilnehmenden Schritt für Schritt eigene Haiku verfas
 sen\, die dann gemeinsam besprochen werden.Kostenfreier Workshop ohne Anme
 ldung in der&nbsp\;Egon-Erwin-Kisch-Bibliothek.Im Rahmen der verlängerten Bi
 bliotheksöffnungszeiten. Ermöglicht durch das Netzwerk der Wärme. Das Netzwerk der
  Wärme ist initiiert und finanziert vom Berliner Senat.\n\nViel Spass wünscht Gra
 tis-in-Berlin\n\nLink zum Tip: \nZu den Gratis-in-Berlin Angeboten: http:/
 /www.gratis-in-berlin.de\n
DTSTART;VALUE=DATE:20231119
DTEND;VALUE=DATE:20231120
SUMMARY:Haiku Workshop ? den Augenblick in Worte fassen
END:VEVENT
END:VCALENDAR
