BEGIN:VCALENDAR
VERSION:2.0
PRODID:-//Gratis-in-Berlin//NONSGML kigkonsult.se iCalcreator 2.14//
METHOD:PUBLISH
X-WR-CALNAME:Gratis-in-Berlin Tip Kalender
X-WR-CALDESC:Erhalte Gratis-in-Berlin Tips in deinem Kalender
BEGIN:VEVENT
UID:20260422T101024UTC-4559ViJiUm@Gratis-in-Berlin
DTSTAMP:20260422T101024Z
DESCRIPTION:In diesem Workshop mit Dorothea Johne und Jörg Lehmann könnt ihr eure
  eigenen Poster gestalten!Zur Herstellung benutzen wir einfache Drucktechn
 iken\, wie Materialdruck oder Monotypie\, kombiniert mit malerischen und z
 eichnerischen Techniken. Die Schrift wird über Schablonen oder handgeschrieben 
 auf das Plakat gebracht.Es ist vorteilhaft zum Workshop bereits den Poster
 text (einen Slogan\, ein einzelnes Wort\, ein kurzes Gedicht) und eine ung
 efähre Vorstellung vom Layout dabei zu haben.Der Kurs ist gedacht für Erwachsene\
 , Jugendliche und Kinder ab 9 Jahren.Vorkenntnisse sind nicht erforderlich
 .Anmeldung erbeten unter:anton.saefkow.bibliothek@lichtenberg.berlin.de od
 erTelefon 030 902963790.Kostenfreier Workshop ohne Anmeldung in der&nbsp\;
 Anton-Saefkow-BibliothekIm Rahmen der verlängerten Bibliotheksöffnungszeiten. E
 rmöglicht durch das Netzwerk der Wärme. Das Netzwerk der Wärme ist initiiert und 
 finanziert vom Berliner Senat.\n\nViel Spass wünscht Gratis-in-Berlin\n\nLink z
 um Tip: \nZu den Gratis-in-Berlin Angeboten: http://www.gratis-in-berlin.d
 e\n
DTSTART;VALUE=DATE:20231125
DTEND;VALUE=DATE:20231126
SUMMARY:Workshop I Die Kunst des Weglassens ? Gestalte Dein eigenes Poster!
END:VEVENT
END:VCALENDAR
