BEGIN:VCALENDAR
VERSION:2.0
PRODID:-//Gratis-in-Berlin//NONSGML kigkonsult.se iCalcreator 2.14//
METHOD:PUBLISH
X-WR-CALNAME:Gratis-in-Berlin Tip Kalender
X-WR-CALDESC:Erhalte Gratis-in-Berlin Tips in deinem Kalender
BEGIN:VEVENT
UID:20260422T101553UTC-7407eTUIvX@Gratis-in-Berlin
DTSTAMP:20260422T101553Z
DESCRIPTION:Holy Crêpe\,die Mieten sind zu hoch!Deswegen laden wir euch in de
 n Kiezladen in der Sonnenallee 154 ein zu:* veganen Crêpes\, süß &amp\; herzhaft*
  Tee &amp\; Kaffee* Broschüren\, Austausch &amp\; VernetzungEure Spenden unters
 tützen den Kiezladen als solidarischen Raum.-barrieream / rolligerecht-rauchfre
 i-Sitzplätze drinnen und draußenMehr Infos zu den Barrieren im Kiezladen: htt
 ps://www.kiezladen.org/...Wir freuen uns auf Euch!\n\nViel Spass wünscht Gratis
 -in-Berlin\n\nLink zum Tip: https://www.gratis-in-berlin.de/kalender/item/
 2064314-crepes-waffeln-cafe-gegen-spende\nZu den Gratis-in-Berlin Angebote
 n: http://www.gratis-in-berlin.de\n
DTSTART;VALUE=DATE:20231119
DTEND;VALUE=DATE:20231120
SUMMARY:Crêpes\, Waffeln\, Café gegen Spende
END:VEVENT
END:VCALENDAR
