BEGIN:VCALENDAR
VERSION:2.0
PRODID:-//Gratis-in-Berlin//NONSGML kigkonsult.se iCalcreator 2.14//
METHOD:PUBLISH
X-WR-CALNAME:Gratis-in-Berlin Tip Kalender
X-WR-CALDESC:Erhalte Gratis-in-Berlin Tips in deinem Kalender
BEGIN:VEVENT
UID:20260420T173935UTC-3625uGvV54@Gratis-in-Berlin
DTSTAMP:20260420T173935Z
DESCRIPTION:Tauschen&nbsp\;+ Trödeln&nbsp\;= GlücklichDie Anfahrt ist über den Mehringda
 mm. An der Adlerhalle und auf dem Gelände gibt es keine Parkplätze!\n\nViel Sp
 ass wünscht Gratis-in-Berlin\n\nLink zum Tip: \nZu den Gratis-in-Berlin Angebot
 en: http://www.gratis-in-berlin.de\n
DTSTART;VALUE=DATE:20231125
DTEND;VALUE=DATE:20231126
SUMMARY:'Nachtflohmarkt' ab 15h\, Adlerhalle/Dragonerareal Kreuzberg
END:VEVENT
END:VCALENDAR
