BEGIN:VCALENDAR
VERSION:2.0
PRODID:-//Gratis-in-Berlin//NONSGML kigkonsult.se iCalcreator 2.14//
METHOD:PUBLISH
X-WR-CALNAME:Gratis-in-Berlin Tip Kalender
X-WR-CALDESC:Erhalte Gratis-in-Berlin Tips in deinem Kalender
BEGIN:VEVENT
UID:20260422T132433UTC-0537TrJFjj@Gratis-in-Berlin
DTSTAMP:20260422T132433Z
DESCRIPTION:Go - ein zeitloser Brettspielklassiker für Kinder ab 6 Jahren und Er
 wachsene.Das 4000 Jahre alte Go-Spiel gehört zu den klassischen Brettspielen\
 , es hat seinen Ursprung in Ostasien und fasziniert durch sehr einfache Re
 geln und schönes Spielmaterial.Wir geben eine Einführung in die Geschichte\, Philo
 sophie und die Regeln des Go-Spiels und Sie werden Ihre ersten Partien spi
 elen können.Für Kinder ab 6 Jahren und Erwachsene. Die Zahl der Plätze sind begrenzt
 .© Kalli\n\nViel Spass wünscht Gratis-in-Berlin\n\nLink zum Tip: https://www.gra
 tis-in-berlin.de/leute-treffen/item/2066655-brettspiel-go-spielen\nZu den 
 Gratis-in-Berlin Angeboten: http://www.gratis-in-berlin.de\n
DTSTART;VALUE=DATE:20240825
DTEND;VALUE=DATE:20240826
SUMMARY:Brettspiel GO spielen
END:VEVENT
END:VCALENDAR
