BEGIN:VCALENDAR
VERSION:2.0
PRODID:-//Gratis-in-Berlin//NONSGML kigkonsult.se iCalcreator 2.14//
METHOD:PUBLISH
X-WR-CALNAME:Gratis-in-Berlin Tip Kalender
X-WR-CALDESC:Erhalte Gratis-in-Berlin Tips in deinem Kalender
BEGIN:VEVENT
UID:20260420T145022UTC-8345UR8gnB@Gratis-in-Berlin
DTSTAMP:20260420T145022Z
DESCRIPTION:Wer kann bei lateinamerikanischen Klängen schon stillsitzen? Wir 
 jedenfalls nicht. Freut euch auf einen Salsa-Schnupperkurs mit Nora und de
 m Team von Cumbancha.\n\nViel Spass wünscht Gratis-in-Berlin\n\nLink zum Tip: h
 ttps://www.gratis-in-berlin.de/kalender/item/2068244-salsa-vibes-mit-cumba
 ncha\nZu den Gratis-in-Berlin Angeboten: http://www.gratis-in-berlin.de\n
DTSTART;VALUE=DATE:20240827
DTEND;VALUE=DATE:20240828
SUMMARY:Salsa Vibes mit Cumbancha
END:VEVENT
END:VCALENDAR
