BEGIN:VCALENDAR
VERSION:2.0
PRODID:-//Gratis-in-Berlin//NONSGML kigkonsult.se iCalcreator 2.14//
METHOD:PUBLISH
X-WR-CALNAME:Gratis-in-Berlin Tip Kalender
X-WR-CALDESC:Erhalte Gratis-in-Berlin Tips in deinem Kalender
BEGIN:VEVENT
UID:20260425T115850UTC-2324h7VbmX@Gratis-in-Berlin
DTSTAMP:20260425T115850Z
DESCRIPTION:Puzzeln Sie gern ? und am liebsten nicht allein?Dann kommen Sie
  zu unserem Puzzle-Treff!Setzen Sie sich mit anderen zusammen\, tauschen S
 ie sich aus und puzzeln Sie gemeinsam.Bringen Sie gern eigene Puzzles mit 
 oder nehmen Sie sich welche von unserer Puzzle-Tausch-Börse.Wir freuen uns au
 f Sie!\n\nViel Spass wünscht Gratis-in-Berlin\n\nLink zum Tip: \nZu den Gratis-
 in-Berlin Angeboten: http://www.gratis-in-berlin.de\n
DTSTART;VALUE=DATE:20260425
DTEND;VALUE=DATE:20260426
SUMMARY:Puzzle-Treff in der Bezirkszentralbibliothek Tempelhof
END:VEVENT
END:VCALENDAR
