BEGIN:VCALENDAR
VERSION:2.0
PRODID:-//Gratis-in-Berlin//NONSGML kigkonsult.se iCalcreator 2.14//
METHOD:PUBLISH
X-WR-CALNAME:Gratis-in-Berlin Tip Kalender
X-WR-CALDESC:Erhalte Gratis-in-Berlin Tips in deinem Kalender
BEGIN:VEVENT
UID:20260424T141843UTC-9427jzmjvV@Gratis-in-Berlin
DTSTAMP:20260424T141843Z
DESCRIPTION:Kommen Sie zu unserem Kieztreff International!Bei Snacks und Ge
 tränken können Sie neue Leute kennenlernen\, sich über den Kiez austauschen und Deut
 sch üben. Egal ob Anfänger:innen oder Fortgeschrittene - in unserem Sprachcafé sind
  alle willkommen. Bringen Sie einfach Ihre Themen und gute Laune mit! Wir 
 freuen uns auch sehr über Interesssierte mit zusätzlichen Sprachkenntnissen!Koste
 nlos. Es ist keine Anmeldung notwendig!\n\nViel Spass wünscht Gratis-in-Berlin
 \n\nLink zum Tip: \nZu den Gratis-in-Berlin Angeboten: http://www.gratis-i
 n-berlin.de\n
DTSTART;VALUE=DATE:20260520
DTEND;VALUE=DATE:20260521
SUMMARY:Kieztreff International in der Bezirkszentralbibliothek Tempelhof
END:VEVENT
END:VCALENDAR
