BEGIN:VCALENDAR
VERSION:2.0
PRODID:-//Gratis-in-Berlin//NONSGML kigkonsult.se iCalcreator 2.14//
METHOD:PUBLISH
X-WR-CALNAME:Gratis-in-Berlin Tip Kalender
X-WR-CALDESC:Erhalte Gratis-in-Berlin Tips in deinem Kalender
BEGIN:VEVENT
UID:20260421T142158UTC-4574RHEoX1@Gratis-in-Berlin
DTSTAMP:20260421T142158Z
DESCRIPTION:Wohin mit den Schätzen\, die ungenutzt zuhause schlummern? Oder a
 uf der Suche nach neuen Lieblingsstücken? Bei uns bist du richtig!Am Samstag\, 
 den 14.06.2025 von 10:00?14:00 Uhr lädt das Stadtteilzentrum KREATIVHAUS zum
  bunten Flohmarkt im Freien ein! Ob Kleidung\, Bücher oder Spielsachen ? kommt 
 vorbei zum Stöbern\, Schnacken und Gemeinschaft erleben auf der idyllischen F
 ischerinsel in Mitte!Freut euch auf ein abwechslungsreiches Begleitprogram
 m rund ums Haus ? und auf leckeren Kuchen &amp\; Getränke im Stadtteilcafé.All
 e Tische sind bereits vergeben ABER es gibt noch Platz. Bringe einfach dei
 nen eigenen Tisch oder eine Decke mit und du bist herzlich Willkommen. Sch
 reibe uns einfach eine Mail an kreativmobilfippev.de und du erhältst alle In
 fos\, die du als Verkäufer*in brauchst.Ort: KREATIVHAUS\, Fischerinsel 3\, 1
 0179 Berlin\n\nViel Spass wünscht Gratis-in-Berlin\n\nLink zum Tip: \nZu den Gr
 atis-in-Berlin Angeboten: http://www.gratis-in-berlin.de\n
DTSTART;VALUE=DATE:20250614
DTEND;VALUE=DATE:20250615
SUMMARY:Flohmarkt rund ums Kreativhaus - stöbern\, schnacken und genießen
END:VEVENT
END:VCALENDAR
