BEGIN:VCALENDAR
VERSION:2.0
PRODID:-//Gratis-in-Berlin//NONSGML kigkonsult.se iCalcreator 2.14//
METHOD:PUBLISH
X-WR-CALNAME:Gratis-in-Berlin Tip Kalender
X-WR-CALDESC:Erhalte Gratis-in-Berlin Tips in deinem Kalender
BEGIN:VEVENT
UID:20260420T113659UTC-2108cWt2Xw@Gratis-in-Berlin
DTSTAMP:20260420T113659Z
DESCRIPTION:OOPS! ? das Neuköllner Netzwerk Kulturelle Bildung (NNKB) lädt imJul
 i 2025 zum zweiten Mal zur Woche der Kulturellen Bildung ein.Dienstags bez
 ieht das Q*ube jede Woche Lebensmittel von der Tafel\, diese werden am sel
 ben Tag bestmöglich gemeinsam zu einem Essen mit den Jugendlichen.Wo? Q*ube-o
 utreach\, Schönstedtstr. 9\, 12043Wann? 15.07.2025\, 15-19 UhrWer? Queere Jug
 endliche und Verbündete im Alter von 12- 27 Jahren\, maximal 15 TeilnehmendeAn 
 31 Orten in ganz Neukölln finden vom 11.-18.07. über 140 Veranstaltungen für Kinder\, J
 ugendliche und Familien statt. Informiere dich hier zu weiteren Angeboten:
  kubi-nk.de\n\nViel Spass wünscht Gratis-in-Berlin\n\nLink zum Tip: https://www
 .gratis-in-berlin.de/leute-treffen/item/2073503-nachhaltiges-kochen\nZu de
 n Gratis-in-Berlin Angeboten: http://www.gratis-in-berlin.de\n
DTSTART;VALUE=DATE:20250715
DTEND;VALUE=DATE:20250716
SUMMARY:Nachhaltiges Kochen
END:VEVENT
END:VCALENDAR
