BEGIN:VCALENDAR
VERSION:2.0
PRODID:-//Gratis-in-Berlin//NONSGML kigkonsult.se iCalcreator 2.14//
METHOD:PUBLISH
X-WR-CALNAME:Gratis-in-Berlin Tip Kalender
X-WR-CALDESC:Erhalte Gratis-in-Berlin Tips in deinem Kalender
BEGIN:VEVENT
UID:20260419T130634UTC-95453RMVaC@Gratis-in-Berlin
DTSTAMP:20260419T130634Z
DESCRIPTION:Sprachcafés sind Orte des Zusammenkommens ? für Menschen\, die ihr Deu
 tsch üben und verbessern möchten oder die einfach Lust haben\, andere Berliner*inn
 en kennenzulernen. Im Rahmen der Filmreihe OnView ? Dance findet ein Film-
  und Sprachcafé im PalaisPopulaire statt. Jedes Treffen widmet sich einem an
 deren Film aus der Reihe und bietet die Möglichkeit\, sich zum Thema des Mite
 inanders und des Tanzens auszutauschen.Das Treffen wird von Dóra Sági\, Experti
 n für Deutsch im Mehrsprachigkeitskontext und ästhetische Sprachbildung\, geleite
 t. Egal welchen Alters\, ob Neu- oder Altberliner*in ? jede*r ist beim Spr
 achcafé willkommen\, um bei einem heißen Getränk und Kuchen über Kunst\, Gesellschaf
 t und persönliche Erlebnisse zu diskutieren.\n\nViel Spass wünscht Gratis-in-Berli
 n\n\nLink zum Tip: https://www.gratis-in-berlin.de/dauerbrenner/15-leute-t
 reffen/2073767-kostenfreies-sprachcafe\nZu den Gratis-in-Berlin Angeboten:
  http://www.gratis-in-berlin.de\n
DTSTART;VALUE=DATE:20250820
DTEND;VALUE=DATE:20250821
SUMMARY:Kostenfreies Sprachcafé
END:VEVENT
END:VCALENDAR
