BEGIN:VCALENDAR
VERSION:2.0
PRODID:-//Gratis-in-Berlin//NONSGML kigkonsult.se iCalcreator 2.14//
METHOD:PUBLISH
X-WR-CALNAME:Gratis-in-Berlin Tip Kalender
X-WR-CALDESC:Erhalte Gratis-in-Berlin Tips in deinem Kalender
BEGIN:VEVENT
UID:20260421T124815UTC-6769F5Ioff@Gratis-in-Berlin
DTSTAMP:20260421T124815Z
DESCRIPTION:Wir laden Sie zu Kaffe\, Tee und Keksen in gemütlicher Runde ein!Nut
 zen Sie die Gelegenheit\, sich mit anderen über Ihre Lieblingsbücher und persönlichen L
 esetipps auszutauschen. Freuen Sie sich auf inspirierende Gespräche\, neue B
 uchempfehlungen und vielleicht sogar Ihre nächste Lieblingslektüre!Anmeldung unte
 r:stabi-bzb@ba-ts.berlin.de\,030 90277-6136 oderdirekt an der Servicetheke
 .\n\nViel Spass wünscht Gratis-in-Berlin\n\nLink zum Tip: \nZu den Gratis-in-Be
 rlin Angeboten: http://www.gratis-in-berlin.de\n
DTSTART;VALUE=DATE:20260422
DTEND;VALUE=DATE:20260423
SUMMARY:Bücherplausch in der Bezirkszentralbibliothek Tempelhof
END:VEVENT
END:VCALENDAR
