BEGIN:VCALENDAR
VERSION:2.0
PRODID:-//Gratis-in-Berlin//NONSGML kigkonsult.se iCalcreator 2.14//
METHOD:PUBLISH
X-WR-CALNAME:Gratis-in-Berlin Tip Kalender
X-WR-CALDESC:Erhalte Gratis-in-Berlin Tips in deinem Kalender
BEGIN:VEVENT
UID:20260419T154153UTC-8249H6xGaE@Gratis-in-Berlin
DTSTAMP:20260419T154153Z
DESCRIPTION:Städte sind Brutstätten von Kreativität\, Zentren von Macht und Herrs
 chaft\, eröffnen Räume für Begegnung\, Diskussion und Kultur\, bieten Schutz in der 
 Anonymität ? und befördern Vereinzelung. Projektbeteiligte aus Budapest\, Flore
 nz\, Skopje und Berlin haben sich mit diesen und weiteren Facetten von STA
 DT beschäftigt. Im Mittelpunkt standen Fragen von Heimisch-sein (Budapest)\,
  Umweltverträglichkeit (Florenz)\, Umgang mit Minderheiten (Skopje) und Wohn
 ungssuche (Berlin). Vom 25.-28. September 2025 sind sie in Berlin. Lassen 
 Sie sich / lasst euch faszinieren von einer gemeinsam entwickelten Perform
 ance mit Theaterszenen\, Texten und Collagen. Zahlreiche Fotos sind während 
 der Begegnungen und zum Thema entstanden. Sie sind in einer Ausstellung zu
  bestaunen. Wir eröffnen sie feierlich. Und dann: Party! Eintritt frei. Imbis
 s auch. Eine Kooperationsveranstaltung von weltgewandt. Institut für interkultu
 relle politische Bildung e.V. mit dem Frauenzentrum Marie e.V. gefördert über das 
 Programm Erasmus+\n\nViel Spass wünscht Gratis-in-Berlin\n\nLink zum Tip: \nZu 
 den Gratis-in-Berlin Angeboten: http://www.gratis-in-berlin.de\n
DTSTART;VALUE=DATE:20250927
DTEND;VALUE=DATE:20250928
SUMMARY:Freiräume\, Schutzräume\, Leerräume: Dazugehören in der Stadt 
END:VEVENT
END:VCALENDAR
