BEGIN:VCALENDAR
VERSION:2.0
PRODID:-//Gratis-in-Berlin//NONSGML kigkonsult.se iCalcreator 2.14//
METHOD:PUBLISH
X-WR-CALNAME:Gratis-in-Berlin Tip Kalender
X-WR-CALDESC:Erhalte Gratis-in-Berlin Tips in deinem Kalender
BEGIN:VEVENT
UID:20260419T143453UTC-8282Usa22u@Gratis-in-Berlin
DTSTAMP:20260419T143453Z
DESCRIPTION:Angelehnt an evidenzbasierte Methoden aus der Psychologie\, dar
 unter Achtsamkeit und kognitiv-behaviorale Techniken\, gestaltet ihr 24 Um
 schläge mit bedeutungsvollen Botschaften (auf Englisch)\, die euch in der Ze
 it vor Weihnachten Orientierung geben und euren Fokus unterstützen.Der Workshop
  ist kostenlos und für alle offen ? keinerlei künstlerische Fähigkeiten oder Vorkenntn
 isse erforderlich! Alle Materialien werden ebenfalls bereitgestellt\n\nVie
 l Spass wünscht Gratis-in-Berlin\n\nLink zum Tip: \nZu den Gratis-in-Berlin Ang
 eboten: http://www.gratis-in-berlin.de\n
DTSTART;VALUE=DATE:20251126
DTEND;VALUE=DATE:20251127
SUMMARY:Workshop: Achtsamer Origami-Adventskalender
END:VEVENT
END:VCALENDAR
