BEGIN:VCALENDAR
VERSION:2.0
PRODID:-//Gratis-in-Berlin//NONSGML kigkonsult.se iCalcreator 2.14//
METHOD:PUBLISH
X-WR-CALNAME:Gratis-in-Berlin Tip Kalender
X-WR-CALDESC:Erhalte Gratis-in-Berlin Tips in deinem Kalender
BEGIN:VEVENT
UID:20260419T144201UTC-2584VgL5X5@Gratis-in-Berlin
DTSTAMP:20260419T144201Z
DESCRIPTION:Start your morning meeting new people\, sharing ideas and getti
 ng real work done. Build and Breakfast is a coworking morning for creators
 \, freelancers\, remote workers and anyone who wants to meet people in Ber
 lin who are building something. If you want good company\, calm focus and 
 a warm start to your day\, this is for you. We meet in a cosy café with a bi
 g shared table. You can work on your projects\, chat with others and enjoy
  fresh croissants thanks to\, the coworking app.\n\nWhat to expect? Easy c
 onversations to break the ice? A short round where we share what we want t
 o achieve? Focused work time? A calm space with natural light and great co
 ffee? A chance to meet ambitious people living in Berlin Schedule9:00 to 1
 0:00 Breakfast and meet each other\n10:00 to 10:15 Daily round\n10:15 to 1
 1:15 Focus time11:15 to 11:30 Coffee break11:30 to 13:00 Final focus sprin
 t Come if you want to make progress\, meet new people and start your day w
 ith motivation. If you want\, I can also prepare a shorter version for the
  platform or an extra line to highlight the free entry.\n\nIt will take pl
 ace in the amazing coworking space of Mindspace in Mitte.\nMindspace Kraus
 enstraße\nKrausenstraße 9-10\, 10117 Berlin\nU6&nbsp\;Stadtmitte\n\nViel Spa
 ss wünscht Gratis-in-Berlin\n\nLink zum Tip: \nZu den Gratis-in-Berlin Angebote
 n: http://www.gratis-in-berlin.de\n
DTSTART;VALUE=DATE:20251126
DTEND;VALUE=DATE:20251127
SUMMARY:Morning Coworking Meetup with Croissants and Community
END:VEVENT
END:VCALENDAR
