BEGIN:VCALENDAR
VERSION:2.0
PRODID:-//Gratis-in-Berlin//NONSGML kigkonsult.se iCalcreator 2.14//
METHOD:PUBLISH
X-WR-CALNAME:Gratis-in-Berlin Tip Kalender
X-WR-CALDESC:Erhalte Gratis-in-Berlin Tips in deinem Kalender
BEGIN:VEVENT
UID:20260422T195912UTC-7375gbmSJN@Gratis-in-Berlin
DTSTAMP:20260422T195912Z
DESCRIPTION:nette Gesellschaft\n\nViel Spass wünscht Gratis-in-Berlin\n\nLink zu
 m Tip: https://www.gratis-in-berlin.de/kalender/item/2076404-offener-nachb
 arschaftstreff-alle-willkommen\nZu den Gratis-in-Berlin Angeboten: http://
 www.gratis-in-berlin.de\n
DTSTART;VALUE=DATE:20251225
DTEND;VALUE=DATE:20251226
SUMMARY:offener Nachbarschaftstreff - alle willkommen
END:VEVENT
END:VCALENDAR
