BEGIN:VCALENDAR
VERSION:2.0
PRODID:-//Gratis-in-Berlin//NONSGML kigkonsult.se iCalcreator 2.14//
METHOD:PUBLISH
X-WR-CALNAME:Gratis-in-Berlin Tip Kalender
X-WR-CALDESC:Erhalte Gratis-in-Berlin Tips in deinem Kalender
BEGIN:VEVENT
UID:20260421T185423UTC-5093zbBkhV@Gratis-in-Berlin
DTSTAMP:20260421T185423Z
DESCRIPTION:Du bist sportlich\, abenteuerlustig und willst deine Zukunft an
 packen? Dann komm zum Event Hauptstadtretterin! Erlebe hautnah\, was es be
 deutet\, Feuerwehrfrau oder Notfallsanitäterin zu sein. Teste deine Skills b
 ei unseren Mitmachaktionen\, triff echte Profis und erfahre alles über die Ausb
 ildungs- und Karrieremöglichkeiten bei der Berliner Feuerwehr.Sei dabei ? auc
 h du kannst Hauptstadtretterin werden!Das Event ist für Frauen ab 16 Jahren. Di
 e Teilnahme ist kostenlos.Die Anmeldung ist ab März 2026 bei der Berliner Fe
 uerwehr möglich.\n\nViel Spass wünscht Gratis-in-Berlin\n\nLink zum Tip: https://w
 ww.gratis-in-berlin.de/naechste-monat/item/2076673-hauptstadtretterin-2026
 \nZu den Gratis-in-Berlin Angeboten: http://www.gratis-in-berlin.de\n
DTSTART;VALUE=DATE:20260509
DTEND;VALUE=DATE:20260510
SUMMARY:Hauptstadtretterin 2026
END:VEVENT
END:VCALENDAR
