BEGIN:VCALENDAR
VERSION:2.0
PRODID:-//Gratis-in-Berlin//NONSGML kigkonsult.se iCalcreator 2.14//
METHOD:PUBLISH
X-WR-CALNAME:Gratis-in-Berlin Tip Kalender
X-WR-CALDESC:Erhalte Gratis-in-Berlin Tips in deinem Kalender
BEGIN:VEVENT
UID:20260421T060705UTC-53790uDh36@Gratis-in-Berlin
DTSTAMP:20260421T060705Z
DESCRIPTION:Ein Praxisworkshop für Frauen für neue berufliche Wege:Hole dir Inspirati
 on im gemeinsamen handwerklichen Gestalten: Baue in unserer Werkstatt dein
 e eigene Pflanzenleiter ? Symbol für deine individuelle ?Karriereleiter? ? und 
 entdecke dabei\, wie du Schritt für Schritt deinen beruflichen Weg gestalten ka
 nnst.Warum dieser Workshop genau das Richtige für dich ist:- Du willst deine ak
 tuelle berufliche Situation reflektieren und Klarheit gewinnen- Du suchst 
 Impulse für einen möglichen Neustart oder möchtest deine Richtung gezielter bestimmen
 - Du möchtest dein Potenzial bewusster nutzen und deine beruflichen Wünsche in gre
 ifbare Ziele verwandelnDu schätzt Austausch mit Gleichgesinnten.Im Workshop 
 erhältst du:- Eine Standortanalyse: Wo stehst du jetzt beruflich?Ideen und M
 ethoden für berufliche Neuorientierung und Veränderung\n- Professionelle Begleitu
 ng während des handwerklichen Prozesses\n- Eine selbstgebaute Pflanzenleiter
  als sichtbares Symbol deiner Entwicklung\n\nViel Spass wünscht Gratis-in-Berli
 n\n\nLink zum Tip: \nZu den Gratis-in-Berlin Angeboten: http://www.gratis-
 in-berlin.de\n
DTSTART;VALUE=DATE:20260423
DTEND;VALUE=DATE:20260425
SUMMARY:Berufliche Veränderung jetzt - aber wie geht der erste Schritt?
END:VEVENT
END:VCALENDAR
