BEGIN:VCALENDAR
VERSION:2.0
PRODID:-//Gratis-in-Berlin//NONSGML kigkonsult.se iCalcreator 2.14//
METHOD:PUBLISH
X-WR-CALNAME:Gratis-in-Berlin Tip Kalender
X-WR-CALDESC:Erhalte Gratis-in-Berlin Tips in deinem Kalender
BEGIN:VEVENT
UID:20260420T084853UTC-1382Db7JzP@Gratis-in-Berlin
DTSTAMP:20260420T084853Z
DESCRIPTION:Bring mit\, was du nicht mehr brauchst und noch gut erhalten is
 t:Kleidung\, Schuhe\, AccessoiresTausch sie gegen neue Teile ein!Kostenlos
 BarrierefreiOhne Anmeldung\n\nViel Spass wünscht Gratis-in-Berlin\n\nLink zum T
 ip: https://www.gratis-in-berlin.de/component/flexicontent/15-leute-treffe
 n/2076885-kleider-tausch\nZu den Gratis-in-Berlin Angeboten: http://www.gr
 atis-in-berlin.de\n
DTSTART;VALUE=DATE:20260208
DTEND;VALUE=DATE:20260209
SUMMARY:Kleider-Tausch 
END:VEVENT
END:VCALENDAR
