BEGIN:VCALENDAR
VERSION:2.0
PRODID:-//Gratis-in-Berlin//NONSGML kigkonsult.se iCalcreator 2.14//
METHOD:PUBLISH
X-WR-CALNAME:Gratis-in-Berlin Tip Kalender
X-WR-CALDESC:Erhalte Gratis-in-Berlin Tips in deinem Kalender
BEGIN:VEVENT
UID:20260421T091059UTC-7577RcgUmA@Gratis-in-Berlin
DTSTAMP:20260421T091059Z
DESCRIPTION:Kleidertauschparty im Nachbarschaftshaus UrbanstraßeDu brauchst 
 frischen Wind in deinem Kleiderschrank? Dann komm zu unserer Kleidertausch
 party im Nachbarschaftshaus Urbanstraße!Was ist eine Kleidertauschparty?Ein
 e Kleidertauschparty ist eine nachhaltige und soziale Art\, sich neu einzu
 kleiden.Du bringst Kleidung mit\, die du nicht mehr trägst\, und tauschst si
 e gegen neue Schätze ein ? ganz ohne Geld. Ob Hosen\, Jacken\, Kleider oder 
 Schuhe ? alles ist willkommen\, solange es gut erhalten ist.So funktionier
 t?s:Bringe gut erhaltene Kleidung\, die du nicht mehr brauchst\, zur Party
  mit. Wir möchten darum bitten\, maximal 20 Teile pro Person mitzubringen!Währe
 nd der Veranstaltung kannst du dir in Ruhe neue Kleidungsstücke aussuchen\, die
  von anderen Teilnehmermitgebracht wurden.Es ist kein 1:1-Tausch nötig. Ihr k
 önnt Kleidung mitbringen und abgeben\, auch wenn ihr nichts mitnehmt\, oder i
 hr nehmt etwas mit\, selbst wenn ihr nichts zum Tauschen habt.Übrig geblieb
 ene Kleidung wird entweder an gemeinnützige Einrichtungen gespendet oder kommt 
 in unsere hauseigene Kleiderkammer.Warum mitmachen?Nachhaltig: Du gibst de
 inen ungenutzten Kleidungsstücken eine zweite Chance und vermeidest Müll.Kostenspare
 nd: Du bekommst neue Kleidung\, ohne Geld auszugeben.Gemeinschaftlich: Ler
 ne andere Menschen aus der Nachbarschaft kennen\, vernetze dich und tausch
 e dich aus.Mach mit\, und entdecke den Spaß am Tauschen statt Kaufen!Auch w
 enn du keine Kleidung zum Tauschen hast\, bist du herzlich willkommen.Wir 
 freuen uns auf dich!15:30 ? 18:30 Uhr1 ? UnkostenbeitragWeitere Kleidertau
 schtermine für das Jahr 2026:6. November 2026... jeweils von 15:30 ? 18:30 Uhr
 \n\nViel Spass wünscht Gratis-in-Berlin\n\nLink zum Tip: https://www.gratis-in-
 berlin.de/spaeter/item/2077417-kleidertauschparty\nZu den Gratis-in-Berlin
  Angeboten: http://www.gratis-in-berlin.de\n
DTSTART;VALUE=DATE:20260911
DTEND;VALUE=DATE:20260912
SUMMARY:Kleidertauschparty
END:VEVENT
END:VCALENDAR
