BEGIN:VCALENDAR
VERSION:2.0
PRODID:-//Gratis-in-Berlin//NONSGML kigkonsult.se iCalcreator 2.14//
METHOD:PUBLISH
X-WR-CALNAME:Gratis-in-Berlin Tip Kalender
X-WR-CALDESC:Erhalte Gratis-in-Berlin Tips in deinem Kalender
BEGIN:VEVENT
UID:20260421T091401UTC-5715uSxRAA@Gratis-in-Berlin
DTSTAMP:20260421T091401Z
DESCRIPTION:Zur Strategie der extremen Rechten gehört es\, in immer wiederkehr
 enden Mythen die Geschichte umzuschreiben. Das Projekt ?Geschichte statt M
 ythen? an der Uni Jena greift geschichtsrevisionistische Narrative\, wie d
 ie Verharmlosung des Nationalsozialismus und des Holocaust und die Leugnun
 g der deutschen Kriegsschuld auf und setzt dieser Strategie historische Fa
 kten entgegen.Der Sozialwissenschaftler Jakob Schergaut\, der Leiter des P
 rojekts\, führt in die Arbeit ein\, berichtet über die Strategien der Rechten und über Ma
 ßnahmen zur Gegenaufklärung.\n\nViel Spass wünscht Gratis-in-Berlin\n\nLink zum Ti
 p: https://www.gratis-in-berlin.de/aktueller-monat/item/2077639-geschichte
 -statt-mythen\nZu den Gratis-in-Berlin Angeboten: http://www.gratis-in-ber
 lin.de\n
DTSTART;VALUE=DATE:20260426
DTEND;VALUE=DATE:20260427
SUMMARY:Geschichte statt Mythen
END:VEVENT
END:VCALENDAR
